BEGIN:VCALENDAR
VERSION:2.0
PRODID:-//Friesenrat Sektion Nord - ECPv6.14.0//NONSGML v1.0//EN
CALSCALE:GREGORIAN
METHOD:PUBLISH
X-ORIGINAL-URL:https://friesenrat.de
X-WR-CALDESC:Veranstaltungen für Friesenrat Sektion Nord
REFRESH-INTERVAL;VALUE=DURATION:PT1H
X-Robots-Tag:noindex
X-PUBLISHED-TTL:PT1H
BEGIN:VTIMEZONE
TZID:Europe/Berlin
BEGIN:DAYLIGHT
TZOFFSETFROM:+0100
TZOFFSETTO:+0200
TZNAME:CEST
DTSTART:20250330T010000
END:DAYLIGHT
BEGIN:STANDARD
TZOFFSETFROM:+0200
TZOFFSETTO:+0100
TZNAME:CET
DTSTART:20251026T010000
END:STANDARD
END:VTIMEZONE
BEGIN:VEVENT
DTSTART;TZID=Europe/Berlin:20250303T100000
DTEND;TZID=Europe/Berlin:20250303T120000
DTSTAMP:20260419T191138
CREATED:20250211T082653Z
LAST-MODIFIED:20250211T082653Z
UID:2772-1740996000-1741003200@friesenrat.de
SUMMARY:FF drååwen
DESCRIPTION:Meetinge Rüm
URL:https://friesenrat.de/veranstaltungskalender/ff-draawen/
LOCATION:Friisk Hüs\, Bräist | Bredstedt\, Bredstedt\, 25821\, Deutschland
END:VEVENT
END:VCALENDAR