BEGIN:VCALENDAR
VERSION:2.0
PRODID:-//Friesenrat Sektion Nord - ECPv6.14.0//NONSGML v1.0//EN
CALSCALE:GREGORIAN
METHOD:PUBLISH
X-WR-CALNAME:Friesenrat Sektion Nord
X-ORIGINAL-URL:https://friesenrat.de
X-WR-CALDESC:Veranstaltungen für Friesenrat Sektion Nord
REFRESH-INTERVAL;VALUE=DURATION:PT1H
X-Robots-Tag:noindex
X-PUBLISHED-TTL:PT1H
BEGIN:VTIMEZONE
TZID:Europe/Berlin
BEGIN:DAYLIGHT
TZOFFSETFROM:+0100
TZOFFSETTO:+0200
TZNAME:CEST
DTSTART:20250330T010000
END:DAYLIGHT
BEGIN:STANDARD
TZOFFSETFROM:+0200
TZOFFSETTO:+0100
TZNAME:CET
DTSTART:20251026T010000
END:STANDARD
END:VTIMEZONE
BEGIN:VEVENT
DTSTART;TZID=Europe/Berlin:20250320T120000
DTEND;TZID=Europe/Berlin:20250320T140000
DTSTAMP:20260419T230248
CREATED:20241107T133104Z
LAST-MODIFIED:20241107T133104Z
UID:2549-1742472000-1742479200@friesenrat.de
SUMMARY:Stjördrååwen | Vorstandssitzung FR
DESCRIPTION:geplant
URL:https://friesenrat.de/veranstaltungskalender/stjoerdraawen-vorstandssitzung-fr-2/
LOCATION:Strandhotel Dagebüll\, Doogebel | Dagebüll
END:VEVENT
END:VCALENDAR