BEGIN:VCALENDAR
VERSION:2.0
PRODID:-//Friesenrat Sektion Nord - ECPv6.14.0//NONSGML v1.0//EN
CALSCALE:GREGORIAN
METHOD:PUBLISH
X-ORIGINAL-URL:https://friesenrat.de
X-WR-CALDESC:Veranstaltungen für Friesenrat Sektion Nord
REFRESH-INTERVAL;VALUE=DURATION:PT1H
X-Robots-Tag:noindex
X-PUBLISHED-TTL:PT1H
BEGIN:VTIMEZONE
TZID:Europe/Berlin
BEGIN:DAYLIGHT
TZOFFSETFROM:+0100
TZOFFSETTO:+0200
TZNAME:CEST
DTSTART:20250330T010000
END:DAYLIGHT
BEGIN:STANDARD
TZOFFSETFROM:+0200
TZOFFSETTO:+0100
TZNAME:CET
DTSTART:20251026T010000
END:STANDARD
END:VTIMEZONE
BEGIN:VEVENT
DTSTART;VALUE=DATE:20250406
DTEND;VALUE=DATE:20250407
DTSTAMP:20260419T185822
CREATED:20250214T140546Z
LAST-MODIFIED:20250214T140546Z
UID:2782-1743897600-1743983999@friesenrat.de
SUMMARY:Wanderausstellung »Was heißt  hier Minderheit?«
DESCRIPTION:Eröffnung in Bautzen
URL:https://friesenrat.de/veranstaltungskalender/wanderausstellung-was-heisst-hier-minderheit/
END:VEVENT
END:VCALENDAR