BEGIN:VCALENDAR
VERSION:2.0
PRODID:-//Friesenrat Sektion Nord - ECPv6.14.0//NONSGML v1.0//EN
CALSCALE:GREGORIAN
METHOD:PUBLISH
X-ORIGINAL-URL:https://friesenrat.de
X-WR-CALDESC:Veranstaltungen für Friesenrat Sektion Nord
REFRESH-INTERVAL;VALUE=DURATION:PT1H
X-Robots-Tag:noindex
X-PUBLISHED-TTL:PT1H
BEGIN:VTIMEZONE
TZID:Europe/Berlin
BEGIN:DAYLIGHT
TZOFFSETFROM:+0100
TZOFFSETTO:+0200
TZNAME:CEST
DTSTART:20250330T010000
END:DAYLIGHT
BEGIN:STANDARD
TZOFFSETFROM:+0200
TZOFFSETTO:+0100
TZNAME:CET
DTSTART:20251026T010000
END:STANDARD
END:VTIMEZONE
BEGIN:VEVENT
DTSTART;TZID=Europe/Berlin:20250624T110000
DTEND;TZID=Europe/Berlin:20250624T123000
DTSTAMP:20260419T190025
CREATED:20250606T101132Z
LAST-MODIFIED:20250606T101253Z
UID:2937-1750762800-1750768200@friesenrat.de
SUMMARY:Minderheiten-Kompetenz-Netzwerk MKN
DESCRIPTION:Vorstellung der Friesen vor Delegation aus der Ukraine
URL:https://friesenrat.de/veranstaltungskalender/minderheiten-kompetenz-netzwerk-mkn-3/
LOCATION:Akademie Sankelmark\, Oeversee
END:VEVENT
BEGIN:VEVENT
DTSTART;TZID=Europe/Berlin:20250624T140000
DTEND;TZID=Europe/Berlin:20250624T150000
DTSTAMP:20260419T190025
CREATED:20250623T092510Z
LAST-MODIFIED:20250623T092510Z
UID:3094-1750773600-1750777200@friesenrat.de
SUMMARY:EUROPEADA Pressetermin
DESCRIPTION:Interview zu EUROPEADA 2008-2024 geplant
URL:https://friesenrat.de/veranstaltungskalender/europeada-pressetermin/
LOCATION:Flensborghus\, Flensborg | Flensburg\, 24939\, Deutschland
END:VEVENT
END:VCALENDAR